BEGIN:VCALENDAR
VERSION:2.0
PRODID:-//swoogo.com//NONSGML kigkonsult.se iCalcreator 2.41.90//
CALSCALE:GREGORIAN
UID:36393863-3030-4661-a365-613238613933
BEGIN:VEVENT
UID:cfd3a35746bae6fb7e6635ab7b53f9b3baa2ca41@swoogo.com
DTSTAMP:20260420T135355Z
DESCRIPTION:
DTSTART:20260430T120000Z
DTEND:20260430T123000Z
LAST-MODIFIED:20260420T135355Z
LOCATION:Mintz Offices - New York\, Boston\, San Diego
SEQUENCE:0
STATUS:CONFIRMED
SUMMARY:Employment Law Summit
TRANSP:OPAQUE
X-ALT-DESC:
BEGIN:VALARM
UID:39323735-6333-4230-b431-396161316562
ACTION:DISPLAY
DESCRIPTION:
TRIGGER:-PT15M
END:VALARM
END:VEVENT
END:VCALENDAR
